BEGIN:VCALENDAR
VERSION:2.0
PRODID:-//Ilsley Public Library - ECPv6.15.20//NONSGML v1.0//EN
CALSCALE:GREGORIAN
METHOD:PUBLISH
X-WR-CALNAME:Ilsley Public Library
X-ORIGINAL-URL:https://www.ilsleypubliclibrary.org
X-WR-CALDESC:Events for Ilsley Public Library
REFRESH-INTERVAL;VALUE=DURATION:PT1H
X-Robots-Tag:noindex
X-PUBLISHED-TTL:PT1H
BEGIN:VTIMEZONE
TZID:America/New_York
BEGIN:DAYLIGHT
TZOFFSETFROM:-0500
TZOFFSETTO:-0400
TZNAME:EDT
DTSTART:20250309T070000
END:DAYLIGHT
BEGIN:STANDARD
TZOFFSETFROM:-0400
TZOFFSETTO:-0500
TZNAME:EST
DTSTART:20251102T060000
END:STANDARD
BEGIN:DAYLIGHT
TZOFFSETFROM:-0500
TZOFFSETTO:-0400
TZNAME:EDT
DTSTART:20260308T070000
END:DAYLIGHT
BEGIN:STANDARD
TZOFFSETFROM:-0400
TZOFFSETTO:-0500
TZNAME:EST
DTSTART:20261101T060000
END:STANDARD
BEGIN:DAYLIGHT
TZOFFSETFROM:-0500
TZOFFSETTO:-0400
TZNAME:EDT
DTSTART:20270314T070000
END:DAYLIGHT
BEGIN:STANDARD
TZOFFSETFROM:-0400
TZOFFSETTO:-0500
TZNAME:EST
DTSTART:20271107T060000
END:STANDARD
END:VTIMEZONE
BEGIN:VEVENT
DTSTART;TZID=America/New_York:20260501T153000
DTEND;TZID=America/New_York:20260501T170000
DTSTAMP:20260421T123719
CREATED:20250822T131322Z
LAST-MODIFIED:20250822T131322Z
UID:10023480-1777649400-1777654800@www.ilsleypubliclibrary.org
SUMMARY:After School Table Top Games
DESCRIPTION:This is the new and improved Chess Club!  Still play chess or any table top game you want!  Please bring a snack and water.
URL:https://www.ilsleypubliclibrary.org/event/after-school-table-top-games/2026-05-01/
LOCATION:VT
CATEGORIES:Kids
ATTACH;FMTTYPE=image/png:https://www.ilsleypubliclibrary.org/wp-content/uploads/2025/08/After-School-Table-Top-Games-with-Alexis.png
END:VEVENT
BEGIN:VEVENT
DTSTART;TZID=America/New_York:20260502T100000
DTEND;TZID=America/New_York:20260502T140000
DTSTAMP:20260421T123719
CREATED:20251023T125047Z
LAST-MODIFIED:20251023T125047Z
UID:10023600-1777716000-1777730400@www.ilsleypubliclibrary.org
SUMMARY:Used Book Sale
DESCRIPTION:Middlebury United Methodist Church\, 43 N. Pleasant St.\, Middlebury.\nThe sale entrance is on the east side of the building where the parking lot is located. There is also a locked entrance on the north side of the building\, which we can open for any shoppers unable to manage stairs. However\, there is no car parking near that door.
URL:https://www.ilsleypubliclibrary.org/event/used-book-sale-88/2026-05-02/
LOCATION:VT
CATEGORIES:Family
END:VEVENT
BEGIN:VEVENT
DTSTART;TZID=America/New_York:20260508T153000
DTEND;TZID=America/New_York:20260508T170000
DTSTAMP:20260421T123719
CREATED:20250822T131322Z
LAST-MODIFIED:20250822T131322Z
UID:10023481-1778254200-1778259600@www.ilsleypubliclibrary.org
SUMMARY:After School Table Top Games
DESCRIPTION:This is the new and improved Chess Club!  Still play chess or any table top game you want!  Please bring a snack and water.
URL:https://www.ilsleypubliclibrary.org/event/after-school-table-top-games/2026-05-08/
LOCATION:VT
CATEGORIES:Kids
ATTACH;FMTTYPE=image/png:https://www.ilsleypubliclibrary.org/wp-content/uploads/2025/08/After-School-Table-Top-Games-with-Alexis.png
END:VEVENT
BEGIN:VEVENT
DTSTART;TZID=America/New_York:20260515T153000
DTEND;TZID=America/New_York:20260515T170000
DTSTAMP:20260421T123719
CREATED:20250822T131322Z
LAST-MODIFIED:20250822T131322Z
UID:10023482-1778859000-1778864400@www.ilsleypubliclibrary.org
SUMMARY:After School Table Top Games
DESCRIPTION:This is the new and improved Chess Club!  Still play chess or any table top game you want!  Please bring a snack and water.
URL:https://www.ilsleypubliclibrary.org/event/after-school-table-top-games/2026-05-15/
LOCATION:VT
CATEGORIES:Kids
ATTACH;FMTTYPE=image/png:https://www.ilsleypubliclibrary.org/wp-content/uploads/2025/08/After-School-Table-Top-Games-with-Alexis.png
END:VEVENT
BEGIN:VEVENT
DTSTART;TZID=America/New_York:20260520T180000
DTEND;TZID=America/New_York:20260520T190000
DTSTAMP:20260421T123719
CREATED:20250801T183724Z
LAST-MODIFIED:20250801T185311Z
UID:10023427-1779300000-1779303600@www.ilsleypubliclibrary.org
SUMMARY:Tome Talk
DESCRIPTION:Join this lively and informed group for a discussion of this month’s title. \nTo see this sessions list of books\, click here.
URL:https://www.ilsleypubliclibrary.org/event/tome-talk-27/2026-05-20/
LOCATION:Mini Ilsley\, 30 Main ST\, Middlebury\, VT\, 05753\, United States
END:VEVENT
BEGIN:VEVENT
DTSTART;TZID=America/New_York:20260522T153000
DTEND;TZID=America/New_York:20260522T170000
DTSTAMP:20260421T123719
CREATED:20250822T131322Z
LAST-MODIFIED:20250822T131322Z
UID:10023483-1779463800-1779469200@www.ilsleypubliclibrary.org
SUMMARY:After School Table Top Games
DESCRIPTION:This is the new and improved Chess Club!  Still play chess or any table top game you want!  Please bring a snack and water.
URL:https://www.ilsleypubliclibrary.org/event/after-school-table-top-games/2026-05-22/
LOCATION:VT
CATEGORIES:Kids
ATTACH;FMTTYPE=image/png:https://www.ilsleypubliclibrary.org/wp-content/uploads/2025/08/After-School-Table-Top-Games-with-Alexis.png
END:VEVENT
BEGIN:VEVENT
DTSTART;TZID=America/New_York:20260529T153000
DTEND;TZID=America/New_York:20260529T170000
DTSTAMP:20260421T123719
CREATED:20250822T131322Z
LAST-MODIFIED:20250822T131322Z
UID:10023484-1780068600-1780074000@www.ilsleypubliclibrary.org
SUMMARY:After School Table Top Games
DESCRIPTION:This is the new and improved Chess Club!  Still play chess or any table top game you want!  Please bring a snack and water.
URL:https://www.ilsleypubliclibrary.org/event/after-school-table-top-games/2026-05-29/
LOCATION:VT
CATEGORIES:Kids
ATTACH;FMTTYPE=image/png:https://www.ilsleypubliclibrary.org/wp-content/uploads/2025/08/After-School-Table-Top-Games-with-Alexis.png
END:VEVENT
END:VCALENDAR